BEGIN:VCALENDAR
VERSION:2.0
PRODID:-//pretix//pretix.eu//
BEGIN:VEVENT
UID:pretix-thwjugendhbni-2026401-0@tix.thw-jugend-hbni.de
DTSTART;VALUE=DATE:20260704
DTEND;VALUE=DATE:20260712
DESCRIPTION:Tickets: https://tix.thw-jugend-hbni.de/2026401/\nVeranstalter:
  THW-Jugend Bremen\, Niedersachsen e.V.
DTSTAMP:20260420T050104Z
LOCATION:Küingdorfer Str. 101\, 49326 Melle
SUMMARY:Landesjugendlager 2026 – Unterstützer:innen
END:VEVENT
END:VCALENDAR
