BEGIN:VCALENDAR
VERSION:2.0
PRODID:-//pretix//pretix.eu//
BEGIN:VEVENT
UID:pretix-thwjugendhbni-20260627-0@tix.thw-jugend-hbni.de
DTSTART;VALUE=DATE:20260627
DTEND;VALUE=DATE:20260629
DESCRIPTION:Tickets: https://tix.thw-jugend-hbni.de/20260627/\nVeranstalter
 : THW-Jugend Bremen\, Niedersachsen e.V.
DTSTAMP:20260424T231619Z
LOCATION:THW-Jugend Bremen\, Niedersachsen e.V.\, Kriegerstraße 1E\, 30161
  Hannover
SUMMARY:Delegiertentreffen
END:VEVENT
END:VCALENDAR
